Package: flowMerge Version: 2.54.0 Command: chmod a+r flowMerge -R && F:\biocbuild\bbs-3.20-bioc\R\bin\R.exe CMD build --keep-empty-dirs --no-resave-data flowMerge StartedAt: 2025-02-03 19:14:37 -0500 (Mon, 03 Feb 2025) EndedAt: 2025-02-03 19:15:46 -0500 (Mon, 03 Feb 2025) EllapsedTime: 68.2 seconds RetCode: 0 Status: OK PackageFile: flowMerge_2.54.0.tar.gz PackageFileSize: 450.6 KiB