Package: flowMerge Version: 2.54.0 Command: F:\biocbuild\bbs-3.20-bioc\R\bin\R.exe CMD INSTALL flowMerge StartedAt: 2025-02-03 16:00:30 -0500 (Mon, 03 Feb 2025) EndedAt: 2025-02-03 16:01:05 -0500 (Mon, 03 Feb 2025) EllapsedTime: 34.6 seconds RetCode: 0 Status: OK