Package: flowPeaks Version: 1.52.0 Command: rm -rf flowPeaks.buildbin-libdir && mkdir flowPeaks.buildbin-libdir && /Users/biocbuild/BBS/utils/build-universal.sh flowPeaks_1.52.0.tar.gz /Library/Frameworks/R.framework/Resources/bin/R flowPeaks.buildbin-libdir StartedAt: 2025-01-31 12:49:06 -0500 (Fri, 31 Jan 2025) EndedAt: 2025-01-31 12:49:44 -0500 (Fri, 31 Jan 2025) EllapsedTime: 37.7 seconds RetCode: 0 Status: OK PackageFile: flowPeaks_1.52.0.tgz PackageFileSize: 4.265 MiB