Package: flowPeaks Version: 1.52.0 Command: /Library/Frameworks/R.framework/Resources/bin/R CMD build --keep-empty-dirs --no-resave-data flowPeaks StartedAt: 2025-01-30 19:11:02 -0500 (Thu, 30 Jan 2025) EndedAt: 2025-01-30 19:12:16 -0500 (Thu, 30 Jan 2025) EllapsedTime: 74.0 seconds RetCode: 0 Status: OK PackageFile: flowPeaks_1.52.0.tar.gz PackageFileSize: 3.904 MiB