Package: flowPeaks Version: 1.52.0 Command: chmod a+r flowPeaks -R && F:\biocbuild\bbs-3.20-bioc\R\bin\R.exe CMD build --keep-empty-dirs --no-resave-data flowPeaks StartedAt: 2025-01-30 18:58:15 -0500 (Thu, 30 Jan 2025) EndedAt: 2025-01-30 19:02:59 -0500 (Thu, 30 Jan 2025) EllapsedTime: 283.5 seconds RetCode: 0 Status: OK PackageFile: flowPeaks_1.52.0.tar.gz PackageFileSize: 3.892 MiB