Package: flowPeaks Version: 1.52.0 Command: F:\biocbuild\bbs-3.20-bioc\R\bin\R.exe CMD check --no-multiarch --install=check:flowPeaks.install-out.txt --library=F:\biocbuild\bbs-3.20-bioc\R\library --no-vignettes --timings flowPeaks_1.52.0.tar.gz StartedAt: 2025-01-31 02:06:48 -0500 (Fri, 31 Jan 2025) EndedAt: 2025-01-31 02:07:50 -0500 (Fri, 31 Jan 2025) EllapsedTime: 62.0 seconds RetCode: 0 Status: OK CheckDir: flowPeaks.Rcheck Warnings: 0