Package: flowPeaks Version: 1.52.0 Command: /home/biocbuild/R/R/bin/R CMD check --install=check:flowPeaks.install-out.txt --library=/home/biocbuild/R/R/site-library --no-vignettes --timings flowPeaks_1.52.0.tar.gz StartedAt: 2025-01-31 06:20:04 -0000 (Fri, 31 Jan 2025) EndedAt: 2025-01-31 06:20:23 -0000 (Fri, 31 Jan 2025) EllapsedTime: 19.0 seconds RetCode: 0 Status: WARNINGS CheckDir: flowPeaks.Rcheck Warnings: 1