Package: flowPeaks Version: 1.52.0 Command: /home/biocbuild/R/R/bin/R CMD INSTALL flowPeaks StartedAt: 2025-01-30 20:05:35 -0000 (Thu, 30 Jan 2025) EndedAt: 2025-01-30 20:05:58 -0000 (Thu, 30 Jan 2025) EllapsedTime: 23.2 seconds RetCode: 0 Status: OK