Package: flowPloidy Version: 1.32.0 Command: rm -rf flowPloidy.buildbin-libdir && mkdir flowPloidy.buildbin-libdir && /Users/biocbuild/BBS/utils/build-universal.sh flowPloidy_1.32.0.tar.gz /Library/Frameworks/R.framework/Resources/bin/R flowPloidy.buildbin-libdir StartedAt: 2025-02-04 12:57:45 -0500 (Tue, 04 Feb 2025) EndedAt: 2025-02-04 12:58:13 -0500 (Tue, 04 Feb 2025) EllapsedTime: 27.5 seconds RetCode: 0 Status: OK PackageFile: flowPloidy_1.32.0.tgz PackageFileSize: 1.655 MiB