Package: flowPloidy Version: 1.32.0 Command: rm -rf flowPloidy.buildbin-libdir && mkdir flowPloidy.buildbin-libdir && F:\biocbuild\bbs-3.20-bioc\R\bin\R.exe CMD INSTALL --build --library=flowPloidy.buildbin-libdir flowPloidy_1.32.0.tar.gz StartedAt: 2025-02-04 08:30:43 -0500 (Tue, 04 Feb 2025) EndedAt: 2025-02-04 08:31:53 -0500 (Tue, 04 Feb 2025) EllapsedTime: 70.0 seconds RetCode: 0 Status: OK PackageFile: flowPloidy_1.32.0.zip PackageFileSize: 1.659 MiB