Package: flowPloidy Version: 1.32.0 Command: chmod a+r flowPloidy -R && F:\biocbuild\bbs-3.20-bioc\R\bin\R.exe CMD build --keep-empty-dirs --no-resave-data flowPloidy StartedAt: 2025-02-03 19:14:43 -0500 (Mon, 03 Feb 2025) EndedAt: 2025-02-03 19:15:24 -0500 (Mon, 03 Feb 2025) EllapsedTime: 41.1 seconds RetCode: 0 Status: OK PackageFile: flowPloidy_1.32.0.tar.gz PackageFileSize: 2.336 MiB