Package: flowSpecs Version: 1.20.0 Command: /Library/Frameworks/R.framework/Resources/bin/R CMD build --keep-empty-dirs --no-resave-data flowSpecs StartedAt: 2025-02-03 19:00:28 -0500 (Mon, 03 Feb 2025) EndedAt: 2025-02-03 19:01:39 -0500 (Mon, 03 Feb 2025) EllapsedTime: 70.4 seconds RetCode: 0 Status: OK PackageFile: flowSpecs_1.20.0.tar.gz PackageFileSize: 4.663 MiB