Package: flowSpecs Version: 1.20.0 Command: /Library/Frameworks/R.framework/Resources/bin/R CMD INSTALL flowSpecs StartedAt: 2025-02-03 15:33:28 -0500 (Mon, 03 Feb 2025) EndedAt: 2025-02-03 15:33:50 -0500 (Mon, 03 Feb 2025) EllapsedTime: 21.9 seconds RetCode: 0 Status: OK