Package: flowSpecs Version: 1.20.0 Command: rm -rf flowSpecs.buildbin-libdir && mkdir flowSpecs.buildbin-libdir && F:\biocbuild\bbs-3.20-bioc\R\bin\R.exe CMD INSTALL --build --library=flowSpecs.buildbin-libdir flowSpecs_1.20.0.tar.gz StartedAt: 2025-02-04 08:30:51 -0500 (Tue, 04 Feb 2025) EndedAt: 2025-02-04 08:31:23 -0500 (Tue, 04 Feb 2025) EllapsedTime: 32.2 seconds RetCode: 0 Status: OK PackageFile: flowSpecs_1.20.0.zip PackageFileSize: 3.314 MiB