Package: flowSpecs Version: 1.20.0 Command: /home/biocbuild/R/R/bin/R CMD INSTALL flowSpecs StartedAt: 2025-02-03 20:35:48 -0000 (Mon, 03 Feb 2025) EndedAt: 2025-02-03 20:36:00 -0000 (Mon, 03 Feb 2025) EllapsedTime: 11.9 seconds RetCode: 0 Status: OK