Package: flowTime Version: 1.30.0 Command: F:\biocbuild\bbs-3.20-bioc\R\bin\R.exe CMD check --no-multiarch --install=check:flowTime.install-out.txt --library=F:\biocbuild\bbs-3.20-bioc\R\library --no-vignettes --timings flowTime_1.30.0.tar.gz StartedAt: 2025-02-04 01:56:11 -0500 (Tue, 04 Feb 2025) EndedAt: 2025-02-04 01:57:45 -0500 (Tue, 04 Feb 2025) EllapsedTime: 94.3 seconds RetCode: 0 Status: OK CheckDir: flowTime.Rcheck Warnings: 0