Package: flowTime Version: 1.30.0 Command: /home/biocbuild/R/R/bin/R CMD build --keep-empty-dirs --no-resave-data flowTime StartedAt: 2025-02-03 23:40:59 -0000 (Mon, 03 Feb 2025) EndedAt: 2025-02-03 23:41:41 -0000 (Mon, 03 Feb 2025) EllapsedTime: 42.0 seconds RetCode: 0 Status: OK PackageFile: flowTime_1.30.0.tar.gz PackageFileSize: 2.233 MiB