Package: flowTime Version: 1.30.0 Command: /home/biocbuild/R/R/bin/R CMD INSTALL flowTime StartedAt: 2025-02-03 20:33:27 -0000 (Mon, 03 Feb 2025) EndedAt: 2025-02-03 20:33:37 -0000 (Mon, 03 Feb 2025) EllapsedTime: 10.1 seconds RetCode: 0 Status: OK