Package: flowTrans Version: 1.58.0 Command: rm -rf flowTrans.buildbin-libdir && mkdir flowTrans.buildbin-libdir && /Users/biocbuild/BBS/utils/build-universal.sh flowTrans_1.58.0.tar.gz /Library/Frameworks/R.framework/Resources/bin/R flowTrans.buildbin-libdir StartedAt: 2025-02-05 15:53:23 -0500 (Wed, 05 Feb 2025) EndedAt: 2025-02-05 15:53:34 -0500 (Wed, 05 Feb 2025) EllapsedTime: 11.2 seconds RetCode: 0 Status: OK PackageFile: flowTrans_1.58.0.tgz PackageFileSize: 523.1 KiB