Package: flowTrans Version: 1.58.0 Command: /Library/Frameworks/R.framework/Resources/bin/R CMD INSTALL flowTrans StartedAt: 2025-02-03 15:22:12 -0500 (Mon, 03 Feb 2025) EndedAt: 2025-02-03 15:22:22 -0500 (Mon, 03 Feb 2025) EllapsedTime: 9.7 seconds RetCode: 0 Status: OK