Package: flowTrans Version: 1.58.0 Command: /Library/Frameworks/R.framework/Resources/bin/R CMD INSTALL flowTrans StartedAt: 2025-02-03 15:32:59 -0500 (Mon, 03 Feb 2025) EndedAt: 2025-02-03 15:33:16 -0500 (Mon, 03 Feb 2025) EllapsedTime: 17.0 seconds RetCode: 0 Status: OK