Package: flowTrans Version: 1.58.0 Command: /home/biocbuild/bbs-3.20-bioc/R/bin/R CMD check --install=check:flowTrans.install-out.txt --library=/home/biocbuild/bbs-3.20-bioc/R/site-library --timings flowTrans_1.58.0.tar.gz StartedAt: 2025-02-03 22:27:46 -0500 (Mon, 03 Feb 2025) EndedAt: 2025-02-03 22:28:56 -0500 (Mon, 03 Feb 2025) EllapsedTime: 70.2 seconds RetCode: 0 Status: OK CheckDir: flowTrans.Rcheck Warnings: 0