Package: flowTrans Version: 1.58.0 Command: /home/biocbuild/R/R/bin/R CMD check --install=check:flowTrans.install-out.txt --library=/home/biocbuild/R/R/site-library --no-vignettes --timings flowTrans_1.58.0.tar.gz StartedAt: 2025-02-04 07:05:42 -0000 (Tue, 04 Feb 2025) EndedAt: 2025-02-04 07:06:54 -0000 (Tue, 04 Feb 2025) EllapsedTime: 72.1 seconds RetCode: 0 Status: OK CheckDir: flowTrans.Rcheck Warnings: 0