Package: flowVS Version: 1.38.0 Command: /Library/Frameworks/R.framework/Resources/bin/R CMD INSTALL flowVS StartedAt: 2025-02-03 18:21:01 -0500 (Mon, 03 Feb 2025) EndedAt: 2025-02-03 18:21:20 -0500 (Mon, 03 Feb 2025) EllapsedTime: 19.6 seconds RetCode: 0 Status: OK