Package: flowVS Version: 1.38.0 Command: /Library/Frameworks/R.framework/Resources/bin/R CMD check --install=check:flowVS.install-out.txt --library=/Library/Frameworks/R.framework/Resources/library --no-vignettes --timings flowVS_1.38.0.tar.gz StartedAt: 2024-11-09 02:34:18 -0500 (Sat, 09 Nov 2024) EndedAt: 2024-11-09 02:38:44 -0500 (Sat, 09 Nov 2024) EllapsedTime: 265.6 seconds RetCode: 0 Status: OK CheckDir: flowVS.Rcheck Warnings: 0