Package: flowVS
Version: 1.38.0
Command: rm -rf flowVS.buildbin-libdir && mkdir flowVS.buildbin-libdir && /Users/biocbuild/BBS/utils/build-universal.sh flowVS_1.38.0.tar.gz /Library/Frameworks/R.framework/Resources/bin/R flowVS.buildbin-libdir
StartedAt: 2024-11-20 04:27:18 -0500 (Wed, 20 Nov 2024)
EndedAt: 2024-11-20 04:27:44 -0500 (Wed, 20 Nov 2024)
EllapsedTime: 25.8 seconds
RetCode: 0
Status: OK
PackageFile: flowVS_1.38.0.tgz
PackageFileSize: 3.586 <A href="http://en.wikipedia.org/wiki/MiB" target="_blank">MiB</A>