Package: flowVS Version: 1.38.0 Command: rm -rf flowVS.buildbin-libdir && mkdir flowVS.buildbin-libdir && /Users/biocbuild/BBS/utils/build-universal.sh flowVS_1.38.0.tar.gz /Library/Frameworks/R.framework/Resources/bin/R flowVS.buildbin-libdir StartedAt: 2025-02-04 12:58:06 -0500 (Tue, 04 Feb 2025) EndedAt: 2025-02-04 12:58:44 -0500 (Tue, 04 Feb 2025) EllapsedTime: 38.7 seconds RetCode: 0 Status: OK PackageFile: flowVS_1.38.0.tgz PackageFileSize: 3.586 MiB