Package: flowVS Version: 1.38.0 Command: /Library/Frameworks/R.framework/Resources/bin/R CMD build --keep-empty-dirs --no-resave-data flowVS StartedAt: 2025-02-03 19:01:01 -0500 (Mon, 03 Feb 2025) EndedAt: 2025-02-03 19:05:35 -0500 (Mon, 03 Feb 2025) EllapsedTime: 274.4 seconds RetCode: 0 Status: OK PackageFile: flowVS_1.38.0.tar.gz PackageFileSize: 3.699 MiB