Package: flowVS Version: 1.38.0 Command: /Library/Frameworks/R.framework/Resources/bin/R CMD check --install=check:flowVS.install-out.txt --library=/Library/Frameworks/R.framework/Resources/library --no-vignettes --timings flowVS_1.38.0.tar.gz StartedAt: 2025-02-04 03:52:00 -0500 (Tue, 04 Feb 2025) EndedAt: 2025-02-04 03:56:28 -0500 (Tue, 04 Feb 2025) EllapsedTime: 267.5 seconds RetCode: 0 Status: OK CheckDir: flowVS.Rcheck Warnings: 0