Package: flowViz Version: 1.70.0 Command: /Library/Frameworks/R.framework/Resources/bin/R CMD build --keep-empty-dirs --no-resave-data flowViz StartedAt: 2025-02-03 19:00:58 -0500 (Mon, 03 Feb 2025) EndedAt: 2025-02-03 19:04:00 -0500 (Mon, 03 Feb 2025) EllapsedTime: 182.5 seconds RetCode: 0 Status: OK PackageFile: flowViz_1.70.0.tar.gz PackageFileSize: 1.183 MiB