Package: flowViz Version: 1.70.0 Command: /home/biocbuild/bbs-3.20-bioc/R/bin/R CMD build --keep-empty-dirs --no-resave-data --md5 flowViz StartedAt: 2025-02-03 17:27:54 -0500 (Mon, 03 Feb 2025) EndedAt: 2025-02-03 17:29:07 -0500 (Mon, 03 Feb 2025) EllapsedTime: 73.1 seconds RetCode: 0 Status: OK PackageFile: flowViz_1.70.0.tar.gz PackageFileSize: 991.4 KiB