Package: flowViz Version: 1.70.0 Command: /home/biocbuild/bbs-3.20-bioc/R/bin/R CMD check --install=check:flowViz.install-out.txt --library=/home/biocbuild/bbs-3.20-bioc/R/site-library --timings flowViz_1.70.0.tar.gz StartedAt: 2025-02-03 22:28:02 -0500 (Mon, 03 Feb 2025) EndedAt: 2025-02-03 22:30:56 -0500 (Mon, 03 Feb 2025) EllapsedTime: 174.3 seconds RetCode: 0 Status: OK CheckDir: flowViz.Rcheck Warnings: 0