Package: flowViz Version: 1.70.0 Command: /home/biocbuild/bbs-3.20-bioc/R/bin/R CMD INSTALL flowViz StartedAt: 2025-02-03 15:23:22 -0500 (Mon, 03 Feb 2025) EndedAt: 2025-02-03 15:23:32 -0500 (Mon, 03 Feb 2025) EllapsedTime: 10.0 seconds RetCode: 0 Status: OK