Package: flowViz Version: 1.70.0 Command: /home/biocbuild/R/R/bin/R CMD build --keep-empty-dirs --no-resave-data flowViz StartedAt: 2025-02-03 23:41:09 -0000 (Mon, 03 Feb 2025) EndedAt: 2025-02-03 23:42:42 -0000 (Mon, 03 Feb 2025) EllapsedTime: 93.0 seconds RetCode: 0 Status: OK PackageFile: flowViz_1.70.0.tar.gz PackageFileSize: 505.3 KiB