Package: flowViz Version: 1.70.0 Command: /home/biocbuild/R/R/bin/R CMD INSTALL flowViz StartedAt: 2025-02-03 20:33:32 -0000 (Mon, 03 Feb 2025) EndedAt: 2025-02-03 20:33:46 -0000 (Mon, 03 Feb 2025) EllapsedTime: 13.7 seconds RetCode: 0 Status: OK