Package: flowWorkspace Version: 4.18.0 Command: /home/biocbuild/R/R/bin/R CMD build --keep-empty-dirs --no-resave-data flowWorkspace StartedAt: 2025-02-03 23:41:14 -0000 (Mon, 03 Feb 2025) EndedAt: 2025-02-03 23:45:06 -0000 (Mon, 03 Feb 2025) EllapsedTime: 232.1 seconds RetCode: 0 Status: OK PackageFile: flowWorkspace_4.18.0.tar.gz PackageFileSize: 4.131 MiB