Package: flowcatchR Version: 1.40.0 Command: /Library/Frameworks/R.framework/Resources/bin/R CMD build --keep-empty-dirs --no-resave-data flowcatchR StartedAt: 2025-02-03 18:58:22 -0500 (Mon, 03 Feb 2025) EndedAt: 2025-02-03 18:59:36 -0500 (Mon, 03 Feb 2025) EllapsedTime: 73.5 seconds RetCode: 0 Status: OK PackageFile: flowcatchR_1.40.0.tar.gz PackageFileSize: 6.848 MiB