Package: flowcatchR Version: 1.40.0 Command: /Library/Frameworks/R.framework/Resources/bin/R CMD check --install=check:flowcatchR.install-out.txt --library=/Library/Frameworks/R.framework/Resources/library --no-vignettes --timings flowcatchR_1.40.0.tar.gz StartedAt: 2025-02-04 03:46:18 -0500 (Tue, 04 Feb 2025) EndedAt: 2025-02-04 03:48:51 -0500 (Tue, 04 Feb 2025) EllapsedTime: 153.5 seconds RetCode: 0 Status: OK CheckDir: flowcatchR.Rcheck Warnings: 0