Package: flowcatchR Version: 1.40.0 Command: /home/biocbuild/bbs-3.20-bioc/R/bin/R CMD build --keep-empty-dirs --no-resave-data --md5 flowcatchR StartedAt: 2025-02-03 17:26:30 -0500 (Mon, 03 Feb 2025) EndedAt: 2025-02-03 17:27:05 -0500 (Mon, 03 Feb 2025) EllapsedTime: 35.1 seconds RetCode: 0 Status: OK PackageFile: flowcatchR_1.40.0.tar.gz PackageFileSize: 6.693 MiB