Package: flowcatchR Version: 1.40.0 Command: rm -rf flowcatchR.buildbin-libdir && mkdir flowcatchR.buildbin-libdir && F:\biocbuild\bbs-3.20-bioc\R\bin\R.exe CMD INSTALL --build --library=flowcatchR.buildbin-libdir flowcatchR_1.40.0.tar.gz StartedAt: 2025-02-04 08:30:07 -0500 (Tue, 04 Feb 2025) EndedAt: 2025-02-04 08:31:21 -0500 (Tue, 04 Feb 2025) EllapsedTime: 73.6 seconds RetCode: 0 Status: OK PackageFile: flowcatchR_1.40.0.zip PackageFileSize: 7.639 MiB