Package: flowcatchR Version: 1.40.0 Command: chmod a+r flowcatchR -R && F:\biocbuild\bbs-3.20-bioc\R\bin\R.exe CMD build --keep-empty-dirs --no-resave-data flowcatchR StartedAt: 2025-02-03 19:10:33 -0500 (Mon, 03 Feb 2025) EndedAt: 2025-02-03 19:12:07 -0500 (Mon, 03 Feb 2025) EllapsedTime: 94.1 seconds RetCode: 0 Status: OK PackageFile: flowcatchR_1.40.0.tar.gz PackageFileSize: 6.761 MiB