Package: fobitools Version: 1.14.0 Command: rm -rf fobitools.buildbin-libdir && mkdir fobitools.buildbin-libdir && F:\biocbuild\bbs-3.20-bioc\R\bin\R.exe CMD INSTALL --build --library=fobitools.buildbin-libdir fobitools_1.14.0.tar.gz StartedAt: 2025-02-04 08:31:22 -0500 (Tue, 04 Feb 2025) EndedAt: 2025-02-04 08:31:57 -0500 (Tue, 04 Feb 2025) EllapsedTime: 34.7 seconds RetCode: 0 Status: OK PackageFile: fobitools_1.14.0.zip PackageFileSize: 2.442 MiB