Package: fobitools Version: 1.14.0 Command: F:\biocbuild\bbs-3.20-bioc\R\bin\R.exe CMD INSTALL fobitools StartedAt: 2025-02-03 16:14:45 -0500 (Mon, 03 Feb 2025) EndedAt: 2025-02-03 16:15:06 -0500 (Mon, 03 Feb 2025) EllapsedTime: 21.2 seconds RetCode: 0 Status: OK