Package: frenchFISH Version: 1.18.0 Command: /Library/Frameworks/R.framework/Resources/bin/R CMD INSTALL frenchFISH StartedAt: 2025-02-03 17:19:51 -0500 (Mon, 03 Feb 2025) EndedAt: 2025-02-03 17:19:53 -0500 (Mon, 03 Feb 2025) EllapsedTime: 2.3 seconds RetCode: 0 Status: OK