Package: frenchFISH Version: 1.18.0 Command: rm -rf frenchFISH.buildbin-libdir && mkdir frenchFISH.buildbin-libdir && /Users/biocbuild/BBS/utils/build-universal.sh frenchFISH_1.18.0.tar.gz /Library/Frameworks/R.framework/Resources/bin/R frenchFISH.buildbin-libdir StartedAt: 2025-02-18 12:10:54 -0500 (Tue, 18 Feb 2025) EndedAt: 2025-02-18 12:10:59 -0500 (Tue, 18 Feb 2025) EllapsedTime: 5.3 seconds RetCode: 0 Status: OK PackageFile: frenchFISH_1.18.0.tgz PackageFileSize: 51.86 <A href="http://en.wikipedia.org/wiki/KiB" target="_blank">KiB</A>