Package: frenchFISH Version: 1.18.0 Command: /Library/Frameworks/R.framework/Resources/bin/R CMD check --install=check:frenchFISH.install-out.txt --library=/Library/Frameworks/R.framework/Resources/library --no-vignettes --timings frenchFISH_1.18.0.tar.gz StartedAt: 2025-02-04 03:53:29 -0500 (Tue, 04 Feb 2025) EndedAt: 2025-02-04 03:54:23 -0500 (Tue, 04 Feb 2025) EllapsedTime: 54.0 seconds RetCode: 0 Status: OK CheckDir: frenchFISH.Rcheck Warnings: 0