Package: frenchFISH
Version: 1.18.0
Command: /home/biocbuild/bbs-3.20-bioc/R/bin/R CMD build --keep-empty-dirs --no-resave-data --md5 frenchFISH
StartedAt: 2025-02-17 17:15:01 -0500 (Mon, 17 Feb 2025)
EndedAt: 2025-02-17 17:15:06 -0500 (Mon, 17 Feb 2025)
EllapsedTime: 5.0 seconds
RetCode: 0
Status: OK
PackageFile: frenchFISH_1.18.0.tar.gz
PackageFileSize: 21.78 <A href="http://en.wikipedia.org/wiki/KiB" target="_blank">KiB</A>