Package: frenchFISH Version: 1.18.0 Command: /home/biocbuild/R/R/bin/R CMD build --keep-empty-dirs --no-resave-data frenchFISH StartedAt: 2025-02-03 23:41:57 -0000 (Mon, 03 Feb 2025) EndedAt: 2025-02-03 23:42:04 -0000 (Mon, 03 Feb 2025) EllapsedTime: 7.0 seconds RetCode: 0 Status: OK PackageFile: frenchFISH_1.18.0.tar.gz PackageFileSize: 21.63 KiB