Package: frenchFISH Version: 1.18.0 Command: /home/biocbuild/R/R/bin/R CMD INSTALL frenchFISH StartedAt: 2025-02-03 21:08:15 -0000 (Mon, 03 Feb 2025) EndedAt: 2025-02-03 21:08:18 -0000 (Mon, 03 Feb 2025) EllapsedTime: 2.3 seconds RetCode: 0 Status: OK