Package: frma
Version: 1.58.0
Command: /home/biocbuild/R/R/bin/R CMD check --install=check:frma.install-out.txt --library=/home/biocbuild/R/R/site-library --no-vignettes --timings frma_1.58.0.tar.gz
StartedAt: 2024-11-20 07:58:41 -0000 (Wed, 20 Nov 2024)
EndedAt: 2024-11-20 08:04:18 -0000 (Wed, 20 Nov 2024)
EllapsedTime: 337.6 seconds
RetCode: 0
Status: OK
CheckDir: frma.Rcheck
Warnings: 0